BEGIN:VCALENDAR
VERSION:2.0
PRODID:-//Ordine Assistenti Sociali - ECPv6.15.18//NONSGML v1.0//EN
CALSCALE:GREGORIAN
METHOD:PUBLISH
X-WR-CALNAME:Ordine Assistenti Sociali
X-ORIGINAL-URL:https://www.oaser.it
X-WR-CALDESC:Eventi per Ordine Assistenti Sociali
REFRESH-INTERVAL;VALUE=DURATION:PT1H
X-Robots-Tag:noindex
X-PUBLISHED-TTL:PT1H
BEGIN:VTIMEZONE
TZID:Europe/Rome
BEGIN:DAYLIGHT
TZOFFSETFROM:+0100
TZOFFSETTO:+0200
TZNAME:CEST
DTSTART:20230326T010000
END:DAYLIGHT
BEGIN:STANDARD
TZOFFSETFROM:+0200
TZOFFSETTO:+0100
TZNAME:CET
DTSTART:20231029T010000
END:STANDARD
BEGIN:DAYLIGHT
TZOFFSETFROM:+0100
TZOFFSETTO:+0200
TZNAME:CEST
DTSTART:20240331T010000
END:DAYLIGHT
BEGIN:STANDARD
TZOFFSETFROM:+0200
TZOFFSETTO:+0100
TZNAME:CET
DTSTART:20241027T010000
END:STANDARD
BEGIN:DAYLIGHT
TZOFFSETFROM:+0100
TZOFFSETTO:+0200
TZNAME:CEST
DTSTART:20250330T010000
END:DAYLIGHT
BEGIN:STANDARD
TZOFFSETFROM:+0200
TZOFFSETTO:+0100
TZNAME:CET
DTSTART:20251026T010000
END:STANDARD
END:VTIMEZONE
BEGIN:VEVENT
DTSTART;TZID=Europe/Rome:20241108T153000
DTEND;TZID=Europe/Rome:20241108T173000
DTSTAMP:20260422T081211
CREATED:20241007T164052Z
LAST-MODIFIED:20241007T164052Z
UID:31584-1731079800-1731087000@www.oaser.it
SUMMARY:SEDUTA DI CONSIGLIO
DESCRIPTION:
URL:https://www.oaser.it/evento/seduta-di-consiglio-5/
END:VEVENT
BEGIN:VEVENT
DTSTART;TZID=Europe/Rome:20241021T153000
DTEND;TZID=Europe/Rome:20241021T180000
DTSTAMP:20260422T081212
CREATED:20241007T163928Z
LAST-MODIFIED:20241007T163928Z
UID:31582-1729524600-1729533600@www.oaser.it
SUMMARY:SEDUTA DI CONSIGLIO
DESCRIPTION:
URL:https://www.oaser.it/evento/seduta-di-consiglio-4/
END:VEVENT
BEGIN:VEVENT
DTSTART;TZID=Europe/Rome:20241018T170000
DTEND;TZID=Europe/Rome:20241018T183000
DTSTAMP:20260422T081212
CREATED:20241007T163849Z
LAST-MODIFIED:20241007T163849Z
UID:31580-1729270800-1729276200@www.oaser.it
SUMMARY:COMMISSIONE COMUNICAZIONE
DESCRIPTION:
URL:https://www.oaser.it/evento/commissione-comunicazione/
END:VEVENT
BEGIN:VEVENT
DTSTART;TZID=Europe/Rome:20241017T153000
DTEND;TZID=Europe/Rome:20241017T173000
DTSTAMP:20260422T081212
CREATED:20241007T163813Z
LAST-MODIFIED:20241007T163813Z
UID:31578-1729179000-1729186200@www.oaser.it
SUMMARY:Non solo parole. La responsabilità della comunicazione social
DESCRIPTION:
URL:https://www.oaser.it/evento/non-solo-parole-la-responsabilita-della-comunicazione-social/
END:VEVENT
BEGIN:VEVENT
DTSTART;TZID=Europe/Rome:20241016T093000
DTEND;TZID=Europe/Rome:20241016T133000
DTSTAMP:20260422T081212
CREATED:20241007T163727Z
LAST-MODIFIED:20241007T163727Z
UID:31576-1729071000-1729085400@www.oaser.it
SUMMARY:LA SUPERVISIONE DEL PERSONALE DEI SERVIZI SOCIALI:  LA COMUNITA’ DI PRATICA IN EMILIA-ROMAGNA
DESCRIPTION:
URL:https://www.oaser.it/evento/la-supervisione-del-personale-dei-servizi-sociali-la-comunita-di-pratica-in-emilia-romagna-2/
END:VEVENT
BEGIN:VEVENT
DTSTART;TZID=Europe/Rome:20241015T093000
DTEND;TZID=Europe/Rome:20241015T133000
DTSTAMP:20260422T081212
CREATED:20241007T163703Z
LAST-MODIFIED:20241007T163703Z
UID:31574-1728984600-1728999000@www.oaser.it
SUMMARY:LA SUPERVISIONE DEL PERSONALE DEI SERVIZI SOCIALI:  LA COMUNITA’ DI PRATICA IN EMILIA-ROMAGNA
DESCRIPTION:
URL:https://www.oaser.it/evento/la-supervisione-del-personale-dei-servizi-sociali-la-comunita-di-pratica-in-emilia-romagna/
END:VEVENT
BEGIN:VEVENT
DTSTART;TZID=Europe/Rome:20241014T193000
DTEND;TZID=Europe/Rome:20241014T210000
DTSTAMP:20260422T081212
CREATED:20241007T163519Z
LAST-MODIFIED:20241007T163519Z
UID:31572-1728934200-1728939600@www.oaser.it
SUMMARY:ASSEMBLEA CUP ER
DESCRIPTION:
URL:https://www.oaser.it/evento/assemblea-cup-er-2/
END:VEVENT
BEGIN:VEVENT
DTSTART;TZID=Europe/Rome:20241009T170000
DTEND;TZID=Europe/Rome:20241009T190000
DTSTAMP:20260422T081212
CREATED:20241007T163444Z
LAST-MODIFIED:20241007T163444Z
UID:31570-1728493200-1728500400@www.oaser.it
SUMMARY:COMMISSIONE FORMAZIONE
DESCRIPTION:
URL:https://www.oaser.it/evento/commissione-formazione-3/
END:VEVENT
BEGIN:VEVENT
DTSTART;TZID=Europe/Rome:20241003T150000
DTEND;TZID=Europe/Rome:20241003T173000
DTSTAMP:20260422T081212
CREATED:20241007T163404Z
LAST-MODIFIED:20241007T163404Z
UID:31568-1727967600-1727976600@www.oaser.it
SUMMARY:Assistenti sociali e scambi professionali internazionali: un apprendimento che supera i confini
DESCRIPTION:Evento patrocinato dall’Ordine professionale\, presentato dalla Consigliera Carla Poletti.
URL:https://www.oaser.it/evento/assistenti-sociali-e-scambi-professionali-internazionali-un-apprendimento-che-supera-i-confini/
END:VEVENT
BEGIN:VEVENT
DTSTART;TZID=Europe/Rome:20240928T093000
DTEND;TZID=Europe/Rome:20240928T120000
DTSTAMP:20260422T081212
CREATED:20240903T194402Z
LAST-MODIFIED:20240903T194402Z
UID:31108-1727515800-1727524800@www.oaser.it
SUMMARY:SEDUTA DI CONSIGLIO
DESCRIPTION:
URL:https://www.oaser.it/evento/seduta-di-consiglio-3/
END:VEVENT
BEGIN:VEVENT
DTSTART;TZID=Europe/Rome:20240927T170000
DTEND;TZID=Europe/Rome:20240927T190000
DTSTAMP:20260422T081212
CREATED:20240903T194258Z
LAST-MODIFIED:20240903T194258Z
UID:31106-1727456400-1727463600@www.oaser.it
SUMMARY:GRUPPO OASER - SANITA'
DESCRIPTION:
URL:https://www.oaser.it/evento/gruppo-oaser-sanita/
END:VEVENT
BEGIN:VEVENT
DTSTART;TZID=Europe/Rome:20240925T160000
DTEND;TZID=Europe/Rome:20240925T183000
DTSTAMP:20260422T081212
CREATED:20240903T194218Z
LAST-MODIFIED:20240903T194218Z
UID:31104-1727280000-1727289000@www.oaser.it
SUMMARY:CONFERENZA DEI PRESIDENTI CROAS
DESCRIPTION:
URL:https://www.oaser.it/evento/conferenza-dei-presidenti-croas/
END:VEVENT
BEGIN:VEVENT
DTSTART;TZID=Europe/Rome:20240916T170000
DTEND;TZID=Europe/Rome:20240916T190000
DTSTAMP:20260422T081212
CREATED:20240903T194143Z
LAST-MODIFIED:20240903T194143Z
UID:31102-1726506000-1726513200@www.oaser.it
SUMMARY:GRUPPO OASER - LINEE GUIDA ESAMI DI STATO
DESCRIPTION:
URL:https://www.oaser.it/evento/gruppo-oaser-linee-guida-esami-di-stato/
END:VEVENT
BEGIN:VEVENT
DTSTART;TZID=Europe/Rome:20240913T143000
DTEND;TZID=Europe/Rome:20240913T183000
DTSTAMP:20260422T081212
CREATED:20240903T194055Z
LAST-MODIFIED:20240903T194055Z
UID:31100-1726237800-1726252200@www.oaser.it
SUMMARY:EVENTO CUP ER - VERSO L'UGUAGLIANZA DI GENERE
DESCRIPTION:
URL:https://www.oaser.it/evento/evento-cup-er-verso-luguaglianza-di-genere/
END:VEVENT
BEGIN:VEVENT
DTSTART;TZID=Europe/Rome:20240911T170000
DTEND;TZID=Europe/Rome:20240911T190000
DTSTAMP:20260422T081212
CREATED:20240903T193911Z
LAST-MODIFIED:20240903T193911Z
UID:31098-1726074000-1726081200@www.oaser.it
SUMMARY:COMMISSIONE FORMAZIONE
DESCRIPTION:
URL:https://www.oaser.it/evento/commissione-formazione-2/
END:VEVENT
BEGIN:VEVENT
DTSTART;TZID=Europe/Rome:20240731T153000
DTEND;TZID=Europe/Rome:20240731T180000
DTSTAMP:20260422T081212
CREATED:20240722T203239Z
LAST-MODIFIED:20240722T203239Z
UID:30838-1722439800-1722448800@www.oaser.it
SUMMARY:SEDUTA DI CONSIGLIO
DESCRIPTION:
URL:https://www.oaser.it/evento/seduta-di-consiglio-2/
END:VEVENT
BEGIN:VEVENT
DTSTART;TZID=Europe/Rome:20240729T170000
DTEND;TZID=Europe/Rome:20240729T190000
DTSTAMP:20260422T081212
CREATED:20240722T203344Z
LAST-MODIFIED:20240722T203344Z
UID:30840-1722272400-1722279600@www.oaser.it
SUMMARY:GRUPPO LINEE GUIDA DI TIROCINIO
DESCRIPTION:
URL:https://www.oaser.it/evento/gruppo-linee-guida-di-tirocinio/
END:VEVENT
BEGIN:VEVENT
DTSTART;TZID=Europe/Rome:20240724T160000
DTEND;TZID=Europe/Rome:20240724T170000
DTSTAMP:20260422T081212
CREATED:20240722T203205Z
LAST-MODIFIED:20240722T203205Z
UID:30836-1721836800-1721840400@www.oaser.it
SUMMARY:INCONTRO CON UNIBO PER CONVENZIONE
DESCRIPTION:
URL:https://www.oaser.it/evento/incontro-con-unibo-per-convenzione/
END:VEVENT
BEGIN:VEVENT
DTSTART;TZID=Europe/Rome:20240717T180000
DTEND;TZID=Europe/Rome:20240717T193000
DTSTAMP:20260422T081212
CREATED:20240717T102354Z
LAST-MODIFIED:20240717T102354Z
UID:30771-1721239200-1721244600@www.oaser.it
SUMMARY:CPO CUP ER
DESCRIPTION:
URL:https://www.oaser.it/evento/cpo-cup-er/
END:VEVENT
BEGIN:VEVENT
DTSTART;TZID=Europe/Rome:20240717T123000
DTEND;TZID=Europe/Rome:20240717T133000
DTSTAMP:20260422T081212
CREATED:20240717T102327Z
LAST-MODIFIED:20240717T102327Z
UID:30769-1721219400-1721223000@www.oaser.it
SUMMARY:INCONTRO CON UNIPR
DESCRIPTION:
URL:https://www.oaser.it/evento/incontro-con-unipr/
END:VEVENT
BEGIN:VEVENT
DTSTART;TZID=Europe/Rome:20240710T123000
DTEND;TZID=Europe/Rome:20240710T133000
DTSTAMP:20260422T081212
CREATED:20240707T211025Z
LAST-MODIFIED:20240707T211025Z
UID:30649-1720614600-1720618200@www.oaser.it
SUMMARY:SOTTOSCRIZIONE PROTOCOLLO PER L'UGUAGLIANZA - CUP ER
DESCRIPTION:
URL:https://www.oaser.it/evento/sottoscrizione-protocollo-per-luguaglianza-cup-er/
END:VEVENT
BEGIN:VEVENT
DTSTART;TZID=Europe/Rome:20240708T150000
DTEND;TZID=Europe/Rome:20240708T170000
DTSTAMP:20260422T081212
CREATED:20240708T205207Z
LAST-MODIFIED:20240708T205207Z
UID:30656-1720450800-1720458000@www.oaser.it
SUMMARY:INCONTRO SUPERVISORI DI TIROCINIO - UNIBO
DESCRIPTION:
URL:https://www.oaser.it/evento/incontro-supervisori-di-tirocinio-unibo/
END:VEVENT
BEGIN:VEVENT
DTSTART;TZID=Europe/Rome:20240704T150000
DTEND;TZID=Europe/Rome:20240704T173000
DTSTAMP:20260422T081212
CREATED:20240630T171325Z
LAST-MODIFIED:20240630T171325Z
UID:30538-1720105200-1720114200@www.oaser.it
SUMMARY:INCONTRO MLPS\, FNAS E CROAS - SUPERVISIONE PROF.NALE
DESCRIPTION:
URL:https://www.oaser.it/evento/incontro-mlps-fnas-e-croas-supervisione-prof-nale/
END:VEVENT
BEGIN:VEVENT
DTSTART;TZID=Europe/Rome:20240703T153000
DTEND;TZID=Europe/Rome:20240703T180000
DTSTAMP:20260422T081212
CREATED:20240630T170449Z
LAST-MODIFIED:20240630T170449Z
UID:30524-1720020600-1720029600@www.oaser.it
SUMMARY:SEDUTA DI CONSIGLIO
DESCRIPTION:
URL:https://www.oaser.it/evento/seduta-di-consiglio/
END:VEVENT
BEGIN:VEVENT
DTSTART;TZID=Europe/Rome:20240628T180000
DTEND;TZID=Europe/Rome:20240628T193000
DTSTAMP:20260422T081212
CREATED:20240630T171208Z
LAST-MODIFIED:20240630T171453Z
UID:30536-1719597600-1719603000@www.oaser.it
SUMMARY:INCONTRO CORSO DI ALTA FORMAZIONE SUPERVISORI - CESDISS
DESCRIPTION:
URL:https://www.oaser.it/evento/incontro-corso-di-alta-formazione-supervisori/
END:VEVENT
BEGIN:VEVENT
DTSTART;TZID=Europe/Rome:20240625T180000
DTEND;TZID=Europe/Rome:20240625T200000
DTSTAMP:20260422T081212
CREATED:20240630T171049Z
LAST-MODIFIED:20240630T171049Z
UID:30534-1719338400-1719345600@www.oaser.it
SUMMARY:COMITATO PARI OPPORTUNITA' CUP ER
DESCRIPTION:
URL:https://www.oaser.it/evento/comitato-pari-opportunita-cup-er/
END:VEVENT
BEGIN:VEVENT
DTSTART;TZID=Europe/Rome:20240624T180000
DTEND;TZID=Europe/Rome:20240624T193000
DTSTAMP:20260422T081212
CREATED:20240630T171000Z
LAST-MODIFIED:20240630T171000Z
UID:30532-1719252000-1719257400@www.oaser.it
SUMMARY:INCONTRO CON LA GARANTE PER L'INFANZIA E L'ADOLESCENZA ER
DESCRIPTION:
URL:https://www.oaser.it/evento/incontro-con-la-garante-per-linfanzia-e-ladolescenza-er/
END:VEVENT
BEGIN:VEVENT
DTSTART;TZID=Europe/Rome:20240618T150000
DTEND;TZID=Europe/Rome:20240618T170000
DTSTAMP:20260422T081212
CREATED:20240630T170854Z
LAST-MODIFIED:20240630T170854Z
UID:30530-1718722800-1718730000@www.oaser.it
SUMMARY:INCONTRO ISCRITTI LUGO - TERRITORI DELL'ALLUVIONE
DESCRIPTION:
URL:https://www.oaser.it/evento/incontro-iscritti-lugo-territori-dellalluvione/
END:VEVENT
BEGIN:VEVENT
DTSTART;TZID=Europe/Rome:20240617T173000
DTEND;TZID=Europe/Rome:20240617T190000
DTSTAMP:20260422T081212
CREATED:20240618T205044Z
LAST-MODIFIED:20240629T161128Z
UID:30157-1718645400-1718650800@www.oaser.it
SUMMARY:INCONTRO COLLEGHI COT
DESCRIPTION:
URL:https://www.oaser.it/evento/incontro-colleghi-cot/
END:VEVENT
BEGIN:VEVENT
DTSTART;TZID=Europe/Rome:20240606T173000
DTEND;TZID=Europe/Rome:20240606T193000
DTSTAMP:20260422T081212
CREATED:20240520T204511Z
LAST-MODIFIED:20240629T161128Z
UID:29283-1717695000-1717702200@www.oaser.it
SUMMARY:SEDUTA DI CONSIGLIO
DESCRIPTION:
URL:https://www.oaser.it/evento/seduta-di-consiglio-17/
END:VEVENT
END:VCALENDAR