BEGIN:VCALENDAR
VERSION:2.0
PRODID:-//Ordine Assistenti Sociali - ECPv6.15.18//NONSGML v1.0//EN
CALSCALE:GREGORIAN
METHOD:PUBLISH
X-ORIGINAL-URL:https://www.oaser.it
X-WR-CALDESC:Eventi per Ordine Assistenti Sociali
REFRESH-INTERVAL;VALUE=DURATION:PT1H
X-Robots-Tag:noindex
X-PUBLISHED-TTL:PT1H
BEGIN:VTIMEZONE
TZID:Europe/Rome
BEGIN:DAYLIGHT
TZOFFSETFROM:+0100
TZOFFSETTO:+0200
TZNAME:CEST
DTSTART:20220327T010000
END:DAYLIGHT
BEGIN:STANDARD
TZOFFSETFROM:+0200
TZOFFSETTO:+0100
TZNAME:CET
DTSTART:20221030T010000
END:STANDARD
BEGIN:DAYLIGHT
TZOFFSETFROM:+0100
TZOFFSETTO:+0200
TZNAME:CEST
DTSTART:20230326T010000
END:DAYLIGHT
BEGIN:STANDARD
TZOFFSETFROM:+0200
TZOFFSETTO:+0100
TZNAME:CET
DTSTART:20231029T010000
END:STANDARD
BEGIN:DAYLIGHT
TZOFFSETFROM:+0100
TZOFFSETTO:+0200
TZNAME:CEST
DTSTART:20240331T010000
END:DAYLIGHT
BEGIN:STANDARD
TZOFFSETFROM:+0200
TZOFFSETTO:+0100
TZNAME:CET
DTSTART:20241027T010000
END:STANDARD
BEGIN:DAYLIGHT
TZOFFSETFROM:+0100
TZOFFSETTO:+0200
TZNAME:CEST
DTSTART:20250330T010000
END:DAYLIGHT
BEGIN:STANDARD
TZOFFSETFROM:+0200
TZOFFSETTO:+0100
TZNAME:CET
DTSTART:20251026T010000
END:STANDARD
END:VTIMEZONE
BEGIN:VEVENT
DTSTART;TZID=Europe/Rome:20240117T153000
DTEND;TZID=Europe/Rome:20240117T180000
DTSTAMP:20260422T172606
CREATED:20240112T182322Z
LAST-MODIFIED:20240112T182322Z
UID:26497-1705505400-1705514400@www.oaser.it
SUMMARY:SEDUTA DI CONSIGLIO
DESCRIPTION:
URL:https://www.oaser.it/evento/seduta-di-consiglio-8/
END:VEVENT
BEGIN:VEVENT
DTSTART;TZID=Europe/Rome:20240116T190000
DTEND;TZID=Europe/Rome:20240116T203000
DTSTAMP:20260422T172606
CREATED:20240112T182522Z
LAST-MODIFIED:20240112T182522Z
UID:26503-1705431600-1705437000@www.oaser.it
SUMMARY:COMMISSIONE COMUNICAZIONE
DESCRIPTION:
URL:https://www.oaser.it/evento/commissione-comunicazione-5/
END:VEVENT
BEGIN:VEVENT
DTSTART;TZID=Europe/Rome:20240112T093000
DTEND;TZID=Europe/Rome:20240112T110000
DTSTAMP:20260422T172606
CREATED:20240112T182407Z
LAST-MODIFIED:20240112T182407Z
UID:26499-1705051800-1705057200@www.oaser.it
SUMMARY:INCONTRO AZIENDA USL DI REGGIO EMILIA
DESCRIPTION:
URL:https://www.oaser.it/evento/incontro-azienda-usl-di-reggio-emilia/
END:VEVENT
BEGIN:VEVENT
DTSTART;TZID=Europe/Rome:20240111T093000
DTEND;TZID=Europe/Rome:20240111T100000
DTSTAMP:20260422T172606
CREATED:20240112T182236Z
LAST-MODIFIED:20240112T182236Z
UID:26495-1704965400-1704967200@www.oaser.it
SUMMARY:INTERVISTA SU INTEGRAZIONE SOCIO-SANITARIA TRC
DESCRIPTION:
URL:https://www.oaser.it/evento/intervista-su-integrazione-socio-sanitaria-trc/
END:VEVENT
BEGIN:VEVENT
DTSTART;TZID=Europe/Rome:20231218T153000
DTEND;TZID=Europe/Rome:20231218T183000
DTSTAMP:20260422T172606
CREATED:20231205T210455Z
LAST-MODIFIED:20231205T210455Z
UID:26225-1702913400-1702924200@www.oaser.it
SUMMARY:SEDUTA DI CONSIGLIO
DESCRIPTION:
URL:https://www.oaser.it/evento/seduta-di-consiglio-9/
END:VEVENT
BEGIN:VEVENT
DTSTART;TZID=Europe/Rome:20231214T163000
DTEND;TZID=Europe/Rome:20231214T183000
DTSTAMP:20260422T172606
CREATED:20231205T210423Z
LAST-MODIFIED:20231205T210423Z
UID:26223-1702571400-1702578600@www.oaser.it
SUMMARY:PROTOCOLLO PIANO PER L'UGUAGLIANZA CUP ER
DESCRIPTION:
URL:https://www.oaser.it/evento/protocollo-piano-per-luguaglianza-cup-er/
END:VEVENT
BEGIN:VEVENT
DTSTART;TZID=Europe/Rome:20231213T140000
DTEND;TZID=Europe/Rome:20231213T160000
DTSTAMP:20260422T172606
CREATED:20231205T210253Z
LAST-MODIFIED:20231205T210253Z
UID:26221-1702476000-1702483200@www.oaser.it
SUMMARY:FORMAZIONE FNAS PER I CONSIGLIERI
DESCRIPTION:
URL:https://www.oaser.it/evento/formazione-fnas-per-i-consiglieri/
END:VEVENT
BEGIN:VEVENT
DTSTART;TZID=Europe/Rome:20231212T183000
DTEND;TZID=Europe/Rome:20231212T203000
DTSTAMP:20260422T172606
CREATED:20231113T212606Z
LAST-MODIFIED:20231113T212606Z
UID:26012-1702405800-1702413000@www.oaser.it
SUMMARY:ASSEMBLEA ANNUALE CUP ER
DESCRIPTION:
URL:https://www.oaser.it/evento/assemblea-annuale-cup-er/
END:VEVENT
BEGIN:VEVENT
DTSTART;TZID=Europe/Rome:20231206T173000
DTEND;TZID=Europe/Rome:20231206T193000
DTSTAMP:20260422T172606
CREATED:20231205T210114Z
LAST-MODIFIED:20231205T210114Z
UID:26217-1701883800-1701891000@www.oaser.it
SUMMARY:COMMISSIONE FORMAZIONE
DESCRIPTION:
URL:https://www.oaser.it/evento/commissione-formazione-7/
END:VEVENT
BEGIN:VEVENT
DTSTART;TZID=Europe/Rome:20231206T150000
DTEND;TZID=Europe/Rome:20231206T173000
DTSTAMP:20260422T172606
CREATED:20231205T210036Z
LAST-MODIFIED:20231205T210036Z
UID:26215-1701874800-1701883800@www.oaser.it
SUMMARY:WEBINAR “La capacità di trasformare il mondo. Pratiche femministe di servizio sociale”
DESCRIPTION:
URL:https://www.oaser.it/evento/webinar-la-capacita-di-trasformare-il-mondo-pratiche-femministe-di-servizio-sociale/
END:VEVENT
BEGIN:VEVENT
DTSTART;TZID=Europe/Rome:20231205T150000
DTEND;TZID=Europe/Rome:20231205T170000
DTSTAMP:20260422T172606
CREATED:20231113T212451Z
LAST-MODIFIED:20231113T212451Z
UID:26010-1701788400-1701795600@www.oaser.it
SUMMARY:INCONTRO CON I COLLEGHI DI CESENA E COMUNI LIMITROFI
DESCRIPTION:
URL:https://www.oaser.it/evento/incontro-con-i-colleghi-di-cesena-e-comuni-limitrofi/
END:VEVENT
BEGIN:VEVENT
DTSTART;TZID=Europe/Rome:20231129T140000
DTEND;TZID=Europe/Rome:20231129T160000
DTSTAMP:20260422T172606
CREATED:20231018T210548Z
LAST-MODIFIED:20231018T210548Z
UID:25873-1701266400-1701273600@www.oaser.it
SUMMARY:FORUM NON AUTOSUFFICIENZA - PRESENTAZIONE WORKSHOP OASER
DESCRIPTION:
URL:https://www.oaser.it/evento/forum-non-autosufficienza-presentazione-workshop-oaser/
END:VEVENT
BEGIN:VEVENT
DTSTART;TZID=Europe/Rome:20231127T153000
DTEND;TZID=Europe/Rome:20231127T183000
DTSTAMP:20260422T172606
CREATED:20231018T210443Z
LAST-MODIFIED:20231018T210443Z
UID:25871-1701099000-1701109800@www.oaser.it
SUMMARY:SEDUTA DI CONSIGLIO
DESCRIPTION:
URL:https://www.oaser.it/evento/seduta-di-consiglio-7/
END:VEVENT
BEGIN:VEVENT
DTSTART;TZID=Europe/Rome:20231116T210000
DTEND;TZID=Europe/Rome:20231116T230000
DTSTAMP:20260422T172606
CREATED:20231018T210345Z
LAST-MODIFIED:20231018T210345Z
UID:25869-1700168400-1700175600@www.oaser.it
SUMMARY:COMMISSIONE FORMAZIONE
DESCRIPTION:
URL:https://www.oaser.it/evento/commissione-formazione-6/
END:VEVENT
BEGIN:VEVENT
DTSTART;TZID=Europe/Rome:20231116T180000
DTEND;TZID=Europe/Rome:20231116T193000
DTSTAMP:20260422T172606
CREATED:20231113T212307Z
LAST-MODIFIED:20231113T212307Z
UID:26008-1700157600-1700163000@www.oaser.it
SUMMARY:COMMISSIONE COMUNICAZIONE
DESCRIPTION:
URL:https://www.oaser.it/evento/commissione-comunicazione-4/
END:VEVENT
BEGIN:VEVENT
DTSTART;TZID=Europe/Rome:20231114T150000
DTEND;TZID=Europe/Rome:20231114T170000
DTSTAMP:20260422T172606
CREATED:20231018T210307Z
LAST-MODIFIED:20231018T210307Z
UID:25867-1699974000-1699981200@www.oaser.it
SUMMARY:INCONTRO CON I COLLEGHI DI FAENZA E COMUNI LIMITROFI
DESCRIPTION:
URL:https://www.oaser.it/evento/incontro-con-i-colleghi-di-faenza-e-comuni-limitrofi/
END:VEVENT
BEGIN:VEVENT
DTSTART;TZID=Europe/Rome:20231110T160000
DTEND;TZID=Europe/Rome:20231110T170000
DTSTAMP:20260422T172606
CREATED:20231113T212212Z
LAST-MODIFIED:20231113T212212Z
UID:26006-1699632000-1699635600@www.oaser.it
SUMMARY:PRESENTAZIONE CORSO DI ALTA FORMAZIONE SUPERVISIONE PROF.NALE
DESCRIPTION:
URL:https://www.oaser.it/evento/presentazione-corso-di-alta-formazione-supervisione-prof-nale/
END:VEVENT
BEGIN:VEVENT
DTSTART;TZID=Europe/Rome:20231109T180000
DTEND;TZID=Europe/Rome:20231109T200000
DTSTAMP:20260422T172606
CREATED:20231018T210215Z
LAST-MODIFIED:20231018T210215Z
UID:25865-1699552800-1699560000@www.oaser.it
SUMMARY:SEDUTA DI CONSIGLIO
DESCRIPTION:
URL:https://www.oaser.it/evento/seduta-di-consiglio-6/
END:VEVENT
BEGIN:VEVENT
DTSTART;TZID=Europe/Rome:20231108T170000
DTEND;TZID=Europe/Rome:20231108T180000
DTSTAMP:20260422T172606
CREATED:20231018T210126Z
LAST-MODIFIED:20231018T210126Z
UID:25863-1699462800-1699466400@www.oaser.it
SUMMARY:INTERVISTA SUNAS - SS IN SANITA'
DESCRIPTION:
URL:https://www.oaser.it/evento/intervista-sunas-ss-in-sanita/
END:VEVENT
BEGIN:VEVENT
DTSTART;TZID=Europe/Rome:20231107T173000
DTEND;TZID=Europe/Rome:20231107T193000
DTSTAMP:20260422T172606
CREATED:20231113T212101Z
LAST-MODIFIED:20231113T212101Z
UID:26004-1699378200-1699385400@www.oaser.it
SUMMARY:GRUPPO SANITA' OASER
DESCRIPTION:
URL:https://www.oaser.it/evento/gruppo-sanita-oaser-2/
END:VEVENT
BEGIN:VEVENT
DTSTART;TZID=Europe/Rome:20231106T173000
DTEND;TZID=Europe/Rome:20231106T193000
DTSTAMP:20260422T172606
CREATED:20231018T210028Z
LAST-MODIFIED:20231018T210028Z
UID:25861-1699291800-1699299000@www.oaser.it
SUMMARY:INCONTRO PER FLAVIA
DESCRIPTION:
URL:https://www.oaser.it/evento/incontro-per-flavia/
LOCATION:Bologna\, Via Cà Selvatica 7\, Bologna\, Italia
END:VEVENT
BEGIN:VEVENT
DTSTART;TZID=Europe/Rome:20231023T100000
DTEND;TZID=Europe/Rome:20231023T190000
DTSTAMP:20260422T172606
CREATED:20231018T205844Z
LAST-MODIFIED:20231018T205844Z
UID:25858-1698055200-1698087600@www.oaser.it
SUMMARY:GIORNATA DEDICATA ALLA VIOLENZA DI GENERE
DESCRIPTION:
URL:https://www.oaser.it/evento/giornata-dedicata-alla-violenza-di-genere/
END:VEVENT
BEGIN:VEVENT
DTSTART;TZID=Europe/Rome:20231020T153000
DTEND;TZID=Europe/Rome:20231020T183000
DTSTAMP:20260422T172606
CREATED:20230928T211752Z
LAST-MODIFIED:20230928T211752Z
UID:25753-1697815800-1697826600@www.oaser.it
SUMMARY:CONSIGLIO DELL'ORDINE
DESCRIPTION:
URL:https://www.oaser.it/evento/consiglio-dellordine/
END:VEVENT
BEGIN:VEVENT
DTSTART;TZID=Europe/Rome:20231019T110000
DTEND;TZID=Europe/Rome:20231019T130000
DTSTAMP:20260422T172606
CREATED:20230928T211615Z
LAST-MODIFIED:20230928T211615Z
UID:25751-1697713200-1697720400@www.oaser.it
SUMMARY:OSSERVATORIO Orphan of Femicide Invisible Victim
DESCRIPTION:
URL:https://www.oaser.it/evento/osservatorio-orphan-of-femicide-invisible-victim/
END:VEVENT
BEGIN:VEVENT
DTSTART;TZID=Europe/Rome:20231018T093000
DTEND;TZID=Europe/Rome:20231018T180000
DTSTAMP:20260422T172606
CREATED:20230928T210316Z
LAST-MODIFIED:20230928T210316Z
UID:25749-1697621400-1697652000@www.oaser.it
SUMMARY:IPS DAY NAZIONALE –  RIMINI
DESCRIPTION:
URL:https://www.oaser.it/evento/ips-day-nazionale-rimini/
END:VEVENT
BEGIN:VEVENT
DTSTART;TZID=Europe/Rome:20231013T093000
DTEND;TZID=Europe/Rome:20231013T160000
DTSTAMP:20260422T172606
CREATED:20230928T205738Z
LAST-MODIFIED:20230928T210032Z
UID:25745-1697189400-1697212800@www.oaser.it
SUMMARY:PROSPETTIVE SULLA VALUTAZIONE DELLE COMPETENZE GENITORIALI
DESCRIPTION:
URL:https://www.oaser.it/evento/riunione-plenaria-ctd/
END:VEVENT
BEGIN:VEVENT
DTSTART;TZID=Europe/Rome:20231011T163000
DTEND;TZID=Europe/Rome:20231011T183000
DTSTAMP:20260422T172606
CREATED:20230928T205629Z
LAST-MODIFIED:20230928T205629Z
UID:25743-1697041800-1697049000@www.oaser.it
SUMMARY:COMMISSIONE FORMAZIONE
DESCRIPTION:
URL:https://www.oaser.it/evento/commissione-formazione-5/
END:VEVENT
BEGIN:VEVENT
DTSTART;TZID=Europe/Rome:20231009T150000
DTEND;TZID=Europe/Rome:20231009T170000
DTSTAMP:20260422T172606
CREATED:20230928T205547Z
LAST-MODIFIED:20230928T205547Z
UID:25741-1696863600-1696870800@www.oaser.it
SUMMARY:INCONTRO IN ROMAGNA -  RAVENNA
DESCRIPTION:
URL:https://www.oaser.it/evento/incontro-in-romagna-ravenna/
END:VEVENT
BEGIN:VEVENT
DTSTART;TZID=Europe/Rome:20231006T173000
DTEND;TZID=Europe/Rome:20231007T173000
DTSTAMP:20260422T172606
CREATED:20230928T205354Z
LAST-MODIFIED:20230928T205354Z
UID:25739-1696613400-1696699800@www.oaser.it
SUMMARY:CONFERENZA DEI PRESIDENTI - BRESCIA
DESCRIPTION:
URL:https://www.oaser.it/evento/conferenza-dei-presidenti-brescia/
END:VEVENT
BEGIN:VEVENT
DTSTART;TZID=Europe/Rome:20231002T180000
DTEND;TZID=Europe/Rome:20231002T193000
DTSTAMP:20260422T172606
CREATED:20230928T205249Z
LAST-MODIFIED:20230928T205249Z
UID:25737-1696269600-1696275000@www.oaser.it
SUMMARY:COMMISSIONE COMUNICAZIONE
DESCRIPTION:
URL:https://www.oaser.it/evento/commissione-comunicazione-3/
END:VEVENT
END:VCALENDAR