BEGIN:VCALENDAR
VERSION:2.0
PRODID:-//Ordine Assistenti Sociali - ECPv6.15.18//NONSGML v1.0//EN
CALSCALE:GREGORIAN
METHOD:PUBLISH
X-WR-CALNAME:Ordine Assistenti Sociali
X-ORIGINAL-URL:https://www.oaser.it
X-WR-CALDESC:Eventi per Ordine Assistenti Sociali
REFRESH-INTERVAL;VALUE=DURATION:PT1H
X-Robots-Tag:noindex
X-PUBLISHED-TTL:PT1H
BEGIN:VTIMEZONE
TZID:Europe/Rome
BEGIN:DAYLIGHT
TZOFFSETFROM:+0100
TZOFFSETTO:+0200
TZNAME:CEST
DTSTART:20240331T010000
END:DAYLIGHT
BEGIN:STANDARD
TZOFFSETFROM:+0200
TZOFFSETTO:+0100
TZNAME:CET
DTSTART:20241027T010000
END:STANDARD
BEGIN:DAYLIGHT
TZOFFSETFROM:+0100
TZOFFSETTO:+0200
TZNAME:CEST
DTSTART:20250330T010000
END:DAYLIGHT
BEGIN:STANDARD
TZOFFSETFROM:+0200
TZOFFSETTO:+0100
TZNAME:CET
DTSTART:20251026T010000
END:STANDARD
BEGIN:DAYLIGHT
TZOFFSETFROM:+0100
TZOFFSETTO:+0200
TZNAME:CEST
DTSTART:20260329T010000
END:DAYLIGHT
BEGIN:STANDARD
TZOFFSETFROM:+0200
TZOFFSETTO:+0100
TZNAME:CET
DTSTART:20261025T010000
END:STANDARD
BEGIN:DAYLIGHT
TZOFFSETFROM:+0100
TZOFFSETTO:+0200
TZNAME:CEST
DTSTART:20270328T010000
END:DAYLIGHT
BEGIN:STANDARD
TZOFFSETFROM:+0200
TZOFFSETTO:+0100
TZNAME:CET
DTSTART:20271031T010000
END:STANDARD
END:VTIMEZONE
BEGIN:VEVENT
DTSTART;TZID=Europe/Rome:20260323T170000
DTEND;TZID=Europe/Rome:20260323T190000
DTSTAMP:20260421T171527
CREATED:20260324T142300Z
LAST-MODIFIED:20260324T142300Z
UID:37483-1774285200-1774292400@www.oaser.it
SUMMARY:Comm. Accreditamento
DESCRIPTION:
URL:https://www.oaser.it/evento/comm-accreditamento-2/
END:VEVENT
BEGIN:VEVENT
DTSTART;TZID=Europe/Rome:20260317T090000
DTEND;TZID=Europe/Rome:20260317T133000
DTSTAMP:20260421T171527
CREATED:20260216T082304Z
LAST-MODIFIED:20260216T082453Z
UID:37180-1773738000-1773754200@www.oaser.it
SUMMARY:Giornata Mondiale del Servizio Sociale 2026
DESCRIPTION:
URL:https://www.oaser.it/evento/giornata-mondiale-del-servizio-sociale-2026/
END:VEVENT
BEGIN:VEVENT
DTSTART;TZID=Europe/Rome:20260309T150000
DTEND;TZID=Europe/Rome:20260309T180000
DTSTAMP:20260421T171527
CREATED:20260304T082307Z
LAST-MODIFIED:20260304T082307Z
UID:37296-1773068400-1773079200@www.oaser.it
SUMMARY:Supervisione assistenti sociali USSM e UEPE - MINISTERO DELLA GIUSTIZIA
DESCRIPTION:
URL:https://www.oaser.it/evento/supervisione-assistenti-sociali-ussm-e-uepe-ministero-della-giustizia/
END:VEVENT
BEGIN:VEVENT
DTSTART;TZID=Europe/Rome:20260307T100000
DTEND;TZID=Europe/Rome:20260307T120000
DTSTAMP:20260421T171527
CREATED:20260108T103503Z
LAST-MODIFIED:20260108T103503Z
UID:36712-1772877600-1772884800@www.oaser.it
SUMMARY:Consiglio
DESCRIPTION:
URL:https://www.oaser.it/evento/consiglio-3/
END:VEVENT
BEGIN:VEVENT
DTSTART;TZID=Europe/Rome:20260306T103000
DTEND;TZID=Europe/Rome:20260306T123000
DTSTAMP:20260421T171527
CREATED:20260304T082047Z
LAST-MODIFIED:20260304T082047Z
UID:37294-1772793000-1772800200@www.oaser.it
SUMMARY:Gruppo "ESAMI DI STATO"
DESCRIPTION:
URL:https://www.oaser.it/evento/gruppo-esami-di-stato/
END:VEVENT
BEGIN:VEVENT
DTSTART;TZID=Europe/Rome:20260304T180000
DTEND;TZID=Europe/Rome:20260304T190000
DTSTAMP:20260421T171527
CREATED:20260216T082533Z
LAST-MODIFIED:20260216T082533Z
UID:37184-1772647200-1772650800@www.oaser.it
SUMMARY:Comm. Formazione
DESCRIPTION:
URL:https://www.oaser.it/evento/comm-formazione-3/
END:VEVENT
BEGIN:VEVENT
DTSTART;TZID=Europe/Rome:20260304T163000
DTEND;TZID=Europe/Rome:20260304T183000
DTSTAMP:20260421T171527
CREATED:20260304T081944Z
LAST-MODIFIED:20260304T081944Z
UID:37292-1772641800-1772649000@www.oaser.it
SUMMARY:Gruppo "PREVENZIONE E SICUREZZA"
DESCRIPTION:
URL:https://www.oaser.it/evento/gruppo-prevenzione-e-sicurezza/
END:VEVENT
BEGIN:VEVENT
DTSTART;TZID=Europe/Rome:20260225T170000
DTEND;TZID=Europe/Rome:20260225T190000
DTSTAMP:20260421T171527
CREATED:20260225T112650Z
LAST-MODIFIED:20260225T112650Z
UID:37261-1772038800-1772046000@www.oaser.it
SUMMARY:Commissione Accreditamento
DESCRIPTION:
URL:https://www.oaser.it/evento/commissione-accreditamento-2/
END:VEVENT
BEGIN:VEVENT
DTSTART;TZID=Europe/Rome:20260211T173000
DTEND;TZID=Europe/Rome:20260211T183000
DTSTAMP:20260421T171527
CREATED:20260128T085639Z
LAST-MODIFIED:20260128T085639Z
UID:36934-1770831000-1770834600@www.oaser.it
SUMMARY:Comm. Albo ed Etica
DESCRIPTION:
URL:https://www.oaser.it/evento/comm-albo-ed-etica-4/
END:VEVENT
BEGIN:VEVENT
DTSTART;TZID=Europe/Rome:20260210T200000
DTEND;TZID=Europe/Rome:20260210T220000
DTSTAMP:20260421T171527
CREATED:20260108T101527Z
LAST-MODIFIED:20260127T142716Z
UID:36709-1770753600-1770760800@www.oaser.it
SUMMARY:Seduta di Consiglio
DESCRIPTION:
URL:https://www.oaser.it/evento/consiglio-2/
END:VEVENT
BEGIN:VEVENT
DTSTART;TZID=Europe/Rome:20260210T170000
DTEND;TZID=Europe/Rome:20260210T190000
DTSTAMP:20260421T171527
CREATED:20260127T142758Z
LAST-MODIFIED:20260127T142758Z
UID:36930-1770742800-1770750000@www.oaser.it
SUMMARY:ELEZIONI CNOAS
DESCRIPTION:
URL:https://www.oaser.it/evento/elezioni-cnoas/
END:VEVENT
BEGIN:VEVENT
DTSTART;TZID=Europe/Rome:20260204T143000
DTEND;TZID=Europe/Rome:20260204T173000
DTSTAMP:20260421T171527
CREATED:20251008T111716Z
LAST-MODIFIED:20251008T111716Z
UID:35659-1770215400-1770226200@www.oaser.it
SUMMARY:4° incontro  - Percorso di Supervisione rivolto agli/alle Assistenti Sociali con funzioni di Coordinamento nelle diverse Aree del Servizio Sociale
DESCRIPTION:Il percorso è condotto dalla dott.ssa Francesca Merlini
URL:https://www.oaser.it/evento/4-incontro-percorso-di-supervisione-rivolto-agli-alle-assistenti-sociali-con-funzioni-di-coordinamento-nelle-diverse-aree-del-servizio-sociale/
END:VEVENT
BEGIN:VEVENT
DTSTART;TZID=Europe/Rome:20260116T153000
DTEND;TZID=Europe/Rome:20260116T173000
DTSTAMP:20260421T171527
CREATED:20260108T101444Z
LAST-MODIFIED:20260108T101444Z
UID:36707-1768577400-1768584600@www.oaser.it
SUMMARY:Comm. Albo ed Etica
DESCRIPTION:
URL:https://www.oaser.it/evento/comm-albo-ed-etica-3/
END:VEVENT
BEGIN:VEVENT
DTSTART;TZID=Europe/Rome:20260115T143000
DTEND;TZID=Europe/Rome:20260115T173000
DTSTAMP:20260421T171527
CREATED:20251008T111609Z
LAST-MODIFIED:20251008T111609Z
UID:35657-1768487400-1768498200@www.oaser.it
SUMMARY:3° incontro  - Percorso di Supervisione rivolto agli/alle Assistenti Sociali con funzioni di Coordinamento nelle diverse Aree del Servizio Sociale
DESCRIPTION:Il percorso è condotto dalla dott.ssa Francesca Merlini
URL:https://www.oaser.it/evento/3-incontro-percorso-di-supervisione-rivolto-agli-alle-assistenti-sociali-con-funzioni-di-coordinamento-nelle-diverse-aree-del-servizio-sociale/
END:VEVENT
BEGIN:VEVENT
DTSTART;TZID=Europe/Rome:20260113T180000
DTEND;TZID=Europe/Rome:20260113T200000
DTSTAMP:20260421T171527
CREATED:20260108T101354Z
LAST-MODIFIED:20260108T101354Z
UID:36705-1768327200-1768334400@www.oaser.it
SUMMARY:Consiglio
DESCRIPTION:
URL:https://www.oaser.it/evento/consiglio/
END:VEVENT
BEGIN:VEVENT
DTSTART;TZID=Europe/Rome:20260112T180000
DTEND;TZID=Europe/Rome:20260112T190000
DTSTAMP:20260421T171527
CREATED:20260108T101321Z
LAST-MODIFIED:20260108T101321Z
UID:36703-1768240800-1768244400@www.oaser.it
SUMMARY:Comm. Formazione
DESCRIPTION:
URL:https://www.oaser.it/evento/comm-formazione-2/
END:VEVENT
BEGIN:VEVENT
DTSTART;TZID=Europe/Rome:20260109T173000
DTEND;TZID=Europe/Rome:20260109T193000
DTSTAMP:20260421T171527
CREATED:20260108T101238Z
LAST-MODIFIED:20260108T101238Z
UID:36701-1767979800-1767987000@www.oaser.it
SUMMARY:Comm. Formazione Continua
DESCRIPTION:
URL:https://www.oaser.it/evento/comm-formazione-continua-3/
END:VEVENT
BEGIN:VEVENT
DTSTART;TZID=Europe/Rome:20251222T170000
DTEND;TZID=Europe/Rome:20251222T190000
DTSTAMP:20260421T171527
CREATED:20251002T103228Z
LAST-MODIFIED:20251002T103228Z
UID:35580-1766422800-1766430000@www.oaser.it
SUMMARY:Seduta di Consiglio
DESCRIPTION:
URL:https://www.oaser.it/evento/seduta-di-consiglio-32/
END:VEVENT
BEGIN:VEVENT
DTSTART;TZID=Europe/Rome:20251219T170000
DTEND;TZID=Europe/Rome:20251219T190000
DTSTAMP:20260421T171527
CREATED:20251211T114933Z
LAST-MODIFIED:20251211T114933Z
UID:36368-1766163600-1766170800@www.oaser.it
SUMMARY:Comm. Accreditamento
DESCRIPTION:
URL:https://www.oaser.it/evento/comm-accreditamento/
END:VEVENT
BEGIN:VEVENT
DTSTART;TZID=Europe/Rome:20251217T180000
DTEND;TZID=Europe/Rome:20251217T200000
DTSTAMP:20260421T171527
CREATED:20251211T114839Z
LAST-MODIFIED:20251211T114839Z
UID:36366-1765994400-1766001600@www.oaser.it
SUMMARY:Comm. Formazione
DESCRIPTION:
URL:https://www.oaser.it/evento/comm-formazione/
END:VEVENT
BEGIN:VEVENT
DTSTART;TZID=Europe/Rome:20251215T141500
DTEND;TZID=Europe/Rome:20251215T173000
DTSTAMP:20260421T171527
CREATED:20251117T142347Z
LAST-MODIFIED:20251117T142347Z
UID:36068-1765808100-1765819800@www.oaser.it
SUMMARY:Webinar "Riforma Cartabia e Giustizia Riparativa Minori e adulti: un confronto tra Servizi e Istituzioni. Riflessioni e prospettive future"
DESCRIPTION:
URL:https://www.oaser.it/evento/webinar-riforma-cartabia-e-giustizia-riparativa-minori-e-adulti-un-confronto-tra-servizi-e-istituzioni-riflessioni-e-prospettive-future/
END:VEVENT
BEGIN:VEVENT
DTSTART;TZID=Europe/Rome:20251204T160000
DTEND;TZID=Europe/Rome:20251204T180000
DTSTAMP:20260421T171527
CREATED:20251117T142208Z
LAST-MODIFIED:20251117T142208Z
UID:36066-1764864000-1764871200@www.oaser.it
SUMMARY:Conferenza dei Presidenti CTD
DESCRIPTION:
URL:https://www.oaser.it/evento/conferenza-dei-presidenti-ctd/
END:VEVENT
BEGIN:VEVENT
DTSTART;TZID=Europe/Rome:20251201T143000
DTEND;TZID=Europe/Rome:20251201T173000
DTSTAMP:20260421T171527
CREATED:20251117T142126Z
LAST-MODIFIED:20251117T142126Z
UID:36064-1764599400-1764610200@www.oaser.it
SUMMARY:Webinar "Il Consiglio Territoriale di Disciplina: garanzia\, tutela e crescita professionale. Un pomeriggio di confronto sull’etica e la responsabilità professionale."
DESCRIPTION:
URL:https://www.oaser.it/evento/webinar-il-consiglio-territoriale-di-disciplina-garanzia-tutela-e-crescita-professionale-un-pomeriggio-di-confronto-sulletica-e-la-responsabilita-professionale/
END:VEVENT
BEGIN:VEVENT
DTSTART;TZID=Europe/Rome:20251129T100000
DTEND;TZID=Europe/Rome:20251129T120000
DTSTAMP:20260421T171527
CREATED:20251002T103147Z
LAST-MODIFIED:20251002T103147Z
UID:35578-1764410400-1764417600@www.oaser.it
SUMMARY:Seduta di Consiglio
DESCRIPTION:
URL:https://www.oaser.it/evento/seduta-di-consiglio-31/
END:VEVENT
BEGIN:VEVENT
DTSTART;TZID=Europe/Rome:20251126T170000
DTEND;TZID=Europe/Rome:20251126T190000
DTSTAMP:20260421T171527
CREATED:20251117T141957Z
LAST-MODIFIED:20251117T141957Z
UID:36062-1764176400-1764183600@www.oaser.it
SUMMARY:Comm. Formazione Continua
DESCRIPTION:
URL:https://www.oaser.it/evento/comm-formazione-continua-2/
END:VEVENT
BEGIN:VEVENT
DTSTART;TZID=Europe/Rome:20251126T160000
DTEND;TZID=Europe/Rome:20251126T180000
DTSTAMP:20260421T171527
CREATED:20251002T103624Z
LAST-MODIFIED:20251029T101147Z
UID:35584-1764172800-1764180000@www.oaser.it
SUMMARY:Comm. Albo ed Etica
DESCRIPTION:
URL:https://www.oaser.it/evento/comm-albo-ed-etica-2/
END:VEVENT
BEGIN:VEVENT
DTSTART;TZID=Europe/Rome:20251126T143000
DTEND;TZID=Europe/Rome:20251126T163000
DTSTAMP:20260421T171527
CREATED:20251030T112920Z
LAST-MODIFIED:20251030T112920Z
UID:35908-1764167400-1764174600@www.oaser.it
SUMMARY:Forum della non Autosufficienza "IL SERVIZIO SOCIALE PROFESSIONALE QUALE RISORSA PER UN MODELLO INTEGRATO DI SISTEMA SALUTE"
DESCRIPTION:IL SERVIZIO SOCIALE PROFESSIONALE QUALE RISORSA PER UN MODELLO INTEGRATO DI SISTEMA SALUTE
URL:https://www.oaser.it/evento/forum-della-non-autosufficienza-il-servizio-sociale-professionale-quale-risorsa-per-un-modello-integrato-di-sistema-salute/
END:VEVENT
BEGIN:VEVENT
DTSTART;TZID=Europe/Rome:20251124T180000
DTEND;TZID=Europe/Rome:20251124T200000
DTSTAMP:20260421T171527
CREATED:20251015T094457Z
LAST-MODIFIED:20251015T094457Z
UID:35730-1764007200-1764014400@www.oaser.it
SUMMARY:Commissione Formazione
DESCRIPTION:
URL:https://www.oaser.it/evento/commissione-formazione-12/
END:VEVENT
BEGIN:VEVENT
DTSTART;TZID=Europe/Rome:20251121T140000
DTEND;TZID=Europe/Rome:20251121T180000
DTSTAMP:20260421T171527
CREATED:20251029T075411Z
LAST-MODIFIED:20251029T075411Z
UID:35886-1763733600-1763748000@www.oaser.it
SUMMARY:Webinar “Intelligenza Artificiale e Professione: il progresso in base all’articolo 24 del Codice deontologico”
DESCRIPTION:L’incontro è pensato per esplorare il ruolo crescente dell’intelligenza artificiale (IA) nel contesto del Servizio Sociale\, analizzandone le potenzialità e i rischi nelle attività quotidiane degli Assistenti Sociali. Verranno presentati esempi concreti di utilizzo dell’IA nel lavoro sociale\, con riflessioni etiche e operative. \nDurante il webinar è previsto anche un Workshop in piccoli gruppi\, che offrirà ai partecipanti l’opportunità di confrontarsi\, sperimentare e riflettere insieme su scenari pratici e applicazioni dell’IA nel proprio ambito professionale. \nIl percorso formativo sarà condotto dal Dr. P. Boschi\, formatore accreditato CNOAS\, giurista\, analista di deontologia\, autore di letteratura professionale\, presidente APOGeO e da Walter Tripi\, Consulente e Innovation Manager (Registro del Ministero Imprese e Made in Italy)\, specializzato in “IA per Innovation e Project Manager” (UniGe Dibris/Asapiens).
URL:https://www.oaser.it/evento/webinar-intelligenza-artificiale-e-professione-il-progresso-in-base-allarticolo-24-del-codice-deontologico/
END:VEVENT
BEGIN:VEVENT
DTSTART;TZID=Europe/Rome:20251120T150000
DTEND;TZID=Europe/Rome:20251120T180000
DTSTAMP:20260421T171527
CREATED:20250908T070232Z
LAST-MODIFIED:20250908T070232Z
UID:35363-1763650800-1763661600@www.oaser.it
SUMMARY:CNOAS - Conferenza dei Presidenti
DESCRIPTION:Conferenza dei Presidenti allargata ai componenti degli Uffici di Presidenza
URL:https://www.oaser.it/evento/cnoas-conferenza-dei-presidenti/
END:VEVENT
END:VCALENDAR