BEGIN:VCALENDAR
VERSION:2.0
PRODID:-//Ordine Assistenti Sociali - ECPv6.15.18//NONSGML v1.0//EN
CALSCALE:GREGORIAN
METHOD:PUBLISH
X-ORIGINAL-URL:https://www.oaser.it
X-WR-CALDESC:Eventi per Ordine Assistenti Sociali
REFRESH-INTERVAL;VALUE=DURATION:PT1H
X-Robots-Tag:noindex
X-PUBLISHED-TTL:PT1H
BEGIN:VTIMEZONE
TZID:Europe/Rome
BEGIN:DAYLIGHT
TZOFFSETFROM:+0100
TZOFFSETTO:+0200
TZNAME:CEST
DTSTART:20240331T010000
END:DAYLIGHT
BEGIN:STANDARD
TZOFFSETFROM:+0200
TZOFFSETTO:+0100
TZNAME:CET
DTSTART:20241027T010000
END:STANDARD
BEGIN:DAYLIGHT
TZOFFSETFROM:+0100
TZOFFSETTO:+0200
TZNAME:CEST
DTSTART:20250330T010000
END:DAYLIGHT
BEGIN:STANDARD
TZOFFSETFROM:+0200
TZOFFSETTO:+0100
TZNAME:CET
DTSTART:20251026T010000
END:STANDARD
BEGIN:DAYLIGHT
TZOFFSETFROM:+0100
TZOFFSETTO:+0200
TZNAME:CEST
DTSTART:20260329T010000
END:DAYLIGHT
BEGIN:STANDARD
TZOFFSETFROM:+0200
TZOFFSETTO:+0100
TZNAME:CET
DTSTART:20261025T010000
END:STANDARD
END:VTIMEZONE
BEGIN:VEVENT
DTSTART;TZID=Europe/Rome:20251126T170000
DTEND;TZID=Europe/Rome:20251126T190000
DTSTAMP:20260421T201424
CREATED:20251117T141957Z
LAST-MODIFIED:20251117T141957Z
UID:36062-1764176400-1764183600@www.oaser.it
SUMMARY:Comm. Formazione Continua
DESCRIPTION:
URL:https://www.oaser.it/evento/comm-formazione-continua-2/
END:VEVENT
BEGIN:VEVENT
DTSTART;TZID=Europe/Rome:20251126T160000
DTEND;TZID=Europe/Rome:20251126T180000
DTSTAMP:20260421T201424
CREATED:20251002T103624Z
LAST-MODIFIED:20251029T101147Z
UID:35584-1764172800-1764180000@www.oaser.it
SUMMARY:Comm. Albo ed Etica
DESCRIPTION:
URL:https://www.oaser.it/evento/comm-albo-ed-etica-2/
END:VEVENT
BEGIN:VEVENT
DTSTART;TZID=Europe/Rome:20251126T143000
DTEND;TZID=Europe/Rome:20251126T163000
DTSTAMP:20260421T201424
CREATED:20251030T112920Z
LAST-MODIFIED:20251030T112920Z
UID:35908-1764167400-1764174600@www.oaser.it
SUMMARY:Forum della non Autosufficienza "IL SERVIZIO SOCIALE PROFESSIONALE QUALE RISORSA PER UN MODELLO INTEGRATO DI SISTEMA SALUTE"
DESCRIPTION:IL SERVIZIO SOCIALE PROFESSIONALE QUALE RISORSA PER UN MODELLO INTEGRATO DI SISTEMA SALUTE
URL:https://www.oaser.it/evento/forum-della-non-autosufficienza-il-servizio-sociale-professionale-quale-risorsa-per-un-modello-integrato-di-sistema-salute/
END:VEVENT
BEGIN:VEVENT
DTSTART;TZID=Europe/Rome:20251124T180000
DTEND;TZID=Europe/Rome:20251124T200000
DTSTAMP:20260421T201424
CREATED:20251015T094457Z
LAST-MODIFIED:20251015T094457Z
UID:35730-1764007200-1764014400@www.oaser.it
SUMMARY:Commissione Formazione
DESCRIPTION:
URL:https://www.oaser.it/evento/commissione-formazione-12/
END:VEVENT
BEGIN:VEVENT
DTSTART;TZID=Europe/Rome:20251121T140000
DTEND;TZID=Europe/Rome:20251121T180000
DTSTAMP:20260421T201424
CREATED:20251029T075411Z
LAST-MODIFIED:20251029T075411Z
UID:35886-1763733600-1763748000@www.oaser.it
SUMMARY:Webinar “Intelligenza Artificiale e Professione: il progresso in base all’articolo 24 del Codice deontologico”
DESCRIPTION:L’incontro è pensato per esplorare il ruolo crescente dell’intelligenza artificiale (IA) nel contesto del Servizio Sociale\, analizzandone le potenzialità e i rischi nelle attività quotidiane degli Assistenti Sociali. Verranno presentati esempi concreti di utilizzo dell’IA nel lavoro sociale\, con riflessioni etiche e operative. \nDurante il webinar è previsto anche un Workshop in piccoli gruppi\, che offrirà ai partecipanti l’opportunità di confrontarsi\, sperimentare e riflettere insieme su scenari pratici e applicazioni dell’IA nel proprio ambito professionale. \nIl percorso formativo sarà condotto dal Dr. P. Boschi\, formatore accreditato CNOAS\, giurista\, analista di deontologia\, autore di letteratura professionale\, presidente APOGeO e da Walter Tripi\, Consulente e Innovation Manager (Registro del Ministero Imprese e Made in Italy)\, specializzato in “IA per Innovation e Project Manager” (UniGe Dibris/Asapiens).
URL:https://www.oaser.it/evento/webinar-intelligenza-artificiale-e-professione-il-progresso-in-base-allarticolo-24-del-codice-deontologico/
END:VEVENT
BEGIN:VEVENT
DTSTART;TZID=Europe/Rome:20251120T150000
DTEND;TZID=Europe/Rome:20251120T180000
DTSTAMP:20260421T201424
CREATED:20250908T070232Z
LAST-MODIFIED:20250908T070232Z
UID:35363-1763650800-1763661600@www.oaser.it
SUMMARY:CNOAS - Conferenza dei Presidenti
DESCRIPTION:Conferenza dei Presidenti allargata ai componenti degli Uffici di Presidenza
URL:https://www.oaser.it/evento/cnoas-conferenza-dei-presidenti/
END:VEVENT
BEGIN:VEVENT
DTSTART;TZID=Europe/Rome:20251119T180000
DTEND;TZID=Europe/Rome:20251119T200000
DTSTAMP:20260421T201424
CREATED:20251015T094424Z
LAST-MODIFIED:20251031T131310Z
UID:35728-1763575200-1763582400@www.oaser.it
SUMMARY:Commissione Formazione
DESCRIPTION:
URL:https://www.oaser.it/evento/commissione-formazione-11/
END:VEVENT
BEGIN:VEVENT
DTSTART;TZID=Europe/Rome:20251119T143000
DTEND;TZID=Europe/Rome:20251119T173000
DTSTAMP:20260421T201424
CREATED:20251008T111504Z
LAST-MODIFIED:20251008T111504Z
UID:35655-1763562600-1763573400@www.oaser.it
SUMMARY:2° incontro  - Percorso di Supervisione rivolto agli/alle Assistenti Sociali con funzioni di Coordinamento nelle diverse Aree del Servizio Sociale
DESCRIPTION:Il percorso è condotto dalla dott.ssa Francesca Merlini
URL:https://www.oaser.it/evento/2-incontro-percorso-di-supervisione-rivolto-agli-alle-assistenti-sociali-con-funzioni-di-coordinamento-nelle-diverse-aree-del-servizio-sociale/
END:VEVENT
BEGIN:VEVENT
DTSTART;TZID=Europe/Rome:20251114T173000
DTEND;TZID=Europe/Rome:20251114T183000
DTSTAMP:20260421T201424
CREATED:20251117T141904Z
LAST-MODIFIED:20251117T141904Z
UID:36060-1763141400-1763145000@www.oaser.it
SUMMARY:Comm. Formazione Continua
DESCRIPTION:
URL:https://www.oaser.it/evento/comm-formazione-continua/
END:VEVENT
BEGIN:VEVENT
DTSTART;TZID=Europe/Rome:20251114T170000
DTEND;TZID=Europe/Rome:20251114T190000
DTSTAMP:20260421T201424
CREATED:20251103T111455Z
LAST-MODIFIED:20251103T125120Z
UID:35945-1763139600-1763146800@www.oaser.it
SUMMARY:CNOAS - Tavolo nazionale Dirigenza in Sanità
DESCRIPTION:
URL:https://www.oaser.it/evento/cnoas-tavolo-nazionale-dirigenza-in-sanita/
END:VEVENT
BEGIN:VEVENT
DTSTART;TZID=Europe/Rome:20251110T170000
DTEND;TZID=Europe/Rome:20251110T190000
DTSTAMP:20260421T201424
CREATED:20251117T141718Z
LAST-MODIFIED:20251117T141718Z
UID:36057-1762794000-1762801200@www.oaser.it
SUMMARY:Seduta straordinaria di Consiglio
DESCRIPTION:
URL:https://www.oaser.it/evento/seduta-straordinaria-di-consiglio/
END:VEVENT
BEGIN:VEVENT
DTSTART;TZID=Europe/Rome:20251103T170000
DTEND;TZID=Europe/Rome:20251103T190000
DTSTAMP:20260421T201424
CREATED:20251002T103112Z
LAST-MODIFIED:20251002T103112Z
UID:35576-1762189200-1762196400@www.oaser.it
SUMMARY:Seduta di Consiglio
DESCRIPTION:
URL:https://www.oaser.it/evento/seduta-di-consiglio-30/
END:VEVENT
BEGIN:VEVENT
DTSTART;TZID=Europe/Rome:20251030T143000
DTEND;TZID=Europe/Rome:20251030T173000
DTSTAMP:20260421T201424
CREATED:20251008T111406Z
LAST-MODIFIED:20251008T111406Z
UID:35653-1761834600-1761845400@www.oaser.it
SUMMARY:1° incontro  - Percorso di Supervisione rivolto agli/alle Assistenti Sociali con funzioni di Coordinamento nelle diverse Aree del Servizio Sociale
DESCRIPTION:Il percorso è condotto dalla dott.ssa Francesca Merlini
URL:https://www.oaser.it/evento/1-incontro-percorso-di-supervisione-rivolto-agli-alle-assistenti-sociali-con-funzioni-di-coordinamento-nelle-diverse-aree-del-servizio-sociale/
END:VEVENT
BEGIN:VEVENT
DTSTART;TZID=Europe/Rome:20251029T170000
DTEND;TZID=Europe/Rome:20251029T190000
DTSTAMP:20260421T201424
CREATED:20251029T075600Z
LAST-MODIFIED:20251029T075600Z
UID:35888-1761757200-1761764400@www.oaser.it
SUMMARY:Commissione Formazione Continua
DESCRIPTION:
URL:https://www.oaser.it/evento/commissione-formazione-continua-6/
END:VEVENT
BEGIN:VEVENT
DTSTART;TZID=Europe/Rome:20251028T140000
DTEND;TZID=Europe/Rome:20251028T180000
DTSTAMP:20260421T201424
CREATED:20251016T105640Z
LAST-MODIFIED:20251016T105640Z
UID:35761-1761660000-1761674400@www.oaser.it
SUMMARY:Convegno “Byte al femminile: opportunità nell’universo digitale\, sfide dell’intelligenza artificiale” – Bologna 28/10/2025 ore 14:00
DESCRIPTION:
URL:https://www.oaser.it/evento/convegno-byte-al-femminile-opportunita-nelluniverso-digitale-sfide-dellintelligenza-artificiale-bologna-28-10-2025-ore-1400/
END:VEVENT
BEGIN:VEVENT
DTSTART;TZID=Europe/Rome:20251021T110000
DTEND;TZID=Europe/Rome:20251021T120000
DTSTAMP:20260421T201424
CREATED:20251015T094206Z
LAST-MODIFIED:20251015T094206Z
UID:35725-1761044400-1761048000@www.oaser.it
SUMMARY:Gruppo di lavoro OASER "Esami di Stato"
DESCRIPTION:
URL:https://www.oaser.it/evento/gruppo-di-lavoro-oaser-esami-di-stato-2/
END:VEVENT
BEGIN:VEVENT
DTSTART;TZID=Europe/Rome:20251013T180000
DTEND;TZID=Europe/Rome:20251013T200000
DTSTAMP:20260421T201424
CREATED:20251002T103536Z
LAST-MODIFIED:20251002T103536Z
UID:35582-1760378400-1760385600@www.oaser.it
SUMMARY:Commissione Formazione
DESCRIPTION:
URL:https://www.oaser.it/evento/commissione-formazione-4/
END:VEVENT
BEGIN:VEVENT
DTSTART;TZID=Europe/Rome:20251008T153000
DTEND;TZID=Europe/Rome:20251008T173000
DTSTAMP:20260421T201424
CREATED:20251008T091705Z
LAST-MODIFIED:20251008T091738Z
UID:35641-1759937400-1759944600@www.oaser.it
SUMMARY:INSEDIAMENTO CONSIGLIO TERRITORIALE DI DISCIPLINA 2025/2029
DESCRIPTION:
URL:https://www.oaser.it/evento/insediamento-nuovo-consiglio-territoriale-di-disciplina/
END:VEVENT
BEGIN:VEVENT
DTSTART;TZID=Europe/Rome:20251006T180000
DTEND;TZID=Europe/Rome:20251006T200000
DTSTAMP:20260421T201424
CREATED:20251002T103031Z
LAST-MODIFIED:20251002T103031Z
UID:35573-1759773600-1759780800@www.oaser.it
SUMMARY:Seduta di Consiglio
DESCRIPTION:
URL:https://www.oaser.it/evento/seduta-di-consiglio-29/
END:VEVENT
BEGIN:VEVENT
DTSTART;TZID=Europe/Rome:20251004T090000
DTEND;TZID=Europe/Rome:20251004T133000
DTSTAMP:20260421T201424
CREATED:20250905T142112Z
LAST-MODIFIED:20250905T142112Z
UID:35358-1759568400-1759584600@www.oaser.it
SUMMARY:CNOAS - Conferenza dei Presidenti e degli UdP
DESCRIPTION:
URL:https://www.oaser.it/evento/cnoas-conferenza-dei-presidenti-e-degli-udp-2/
END:VEVENT
BEGIN:VEVENT
DTSTART;TZID=Europe/Rome:20251003T143000
DTEND;TZID=Europe/Rome:20251003T193000
DTSTAMP:20260421T201424
CREATED:20250905T141949Z
LAST-MODIFIED:20250905T141949Z
UID:35355-1759501800-1759519800@www.oaser.it
SUMMARY:CNOAS - Conferenza dei Presidenti e degli UdP
DESCRIPTION:
URL:https://www.oaser.it/evento/cnoas-conferenza-dei-presidenti-e-degli-udp/
END:VEVENT
BEGIN:VEVENT
DTSTART;TZID=Europe/Rome:20250926T150000
DTEND;TZID=Europe/Rome:20250926T170000
DTSTAMP:20260421T201424
CREATED:20250919T132427Z
LAST-MODIFIED:20250919T132427Z
UID:35446-1758898800-1758906000@www.oaser.it
SUMMARY:Commissione Albo ed Etica
DESCRIPTION:
URL:https://www.oaser.it/evento/commissione-albo-ed-etica/
END:VEVENT
BEGIN:VEVENT
DTSTART;TZID=Europe/Rome:20250924T170000
DTEND;TZID=Europe/Rome:20250924T190000
DTSTAMP:20260421T201424
CREATED:20250919T132304Z
LAST-MODIFIED:20250919T132304Z
UID:35444-1758733200-1758740400@www.oaser.it
SUMMARY:Commissione Formazione Continua
DESCRIPTION:
URL:https://www.oaser.it/evento/commissione-formazione-continua-5/
END:VEVENT
BEGIN:VEVENT
DTSTART;TZID=Europe/Rome:20250922T170000
DTEND;TZID=Europe/Rome:20250922T190000
DTSTAMP:20260421T201424
CREATED:20250805T135552Z
LAST-MODIFIED:20250805T135552Z
UID:34935-1758560400-1758567600@www.oaser.it
SUMMARY:Tavolo nazionale Università e Ricerca
DESCRIPTION:
URL:https://www.oaser.it/evento/tavolo-nazionale-universita-e-ricerca/
END:VEVENT
BEGIN:VEVENT
DTSTART;TZID=Europe/Rome:20250910T173000
DTEND;TZID=Europe/Rome:20250910T193000
DTSTAMP:20260421T201424
CREATED:20250805T135449Z
LAST-MODIFIED:20250805T135449Z
UID:34933-1757525400-1757532600@www.oaser.it
SUMMARY:Tavolo nazionale Prevenzione e Sicurezza
DESCRIPTION:
URL:https://www.oaser.it/evento/tavolo-nazionale-prevenzione-e-sicurezza/
END:VEVENT
BEGIN:VEVENT
DTSTART;TZID=Europe/Rome:20250910T153000
DTEND;TZID=Europe/Rome:20250910T173000
DTSTAMP:20260421T201424
CREATED:20250716T123935Z
LAST-MODIFIED:20250731T075208Z
UID:34822-1757518200-1757525400@www.oaser.it
SUMMARY:Comm.ne Albo ed Etica
DESCRIPTION:
URL:https://www.oaser.it/evento/comm-ne-albo-ed-etica-2/
END:VEVENT
BEGIN:VEVENT
DTSTART;TZID=Europe/Rome:20250908T180000
DTEND;TZID=Europe/Rome:20250908T190000
DTSTAMP:20260421T201424
CREATED:20250904T124215Z
LAST-MODIFIED:20250904T124215Z
UID:35352-1757354400-1757358000@www.oaser.it
SUMMARY:Comm.ne Formazione
DESCRIPTION:
URL:https://www.oaser.it/evento/comm-ne-formazione-2/
END:VEVENT
BEGIN:VEVENT
DTSTART;TZID=Europe/Rome:20250906T100000
DTEND;TZID=Europe/Rome:20250906T100000
DTSTAMP:20260421T201424
CREATED:20250703T080602Z
LAST-MODIFIED:20250703T080624Z
UID:34608-1757152800-1757152800@www.oaser.it
SUMMARY:Seduta di Consiglio
DESCRIPTION:
URL:https://www.oaser.it/evento/seduta-di-consiglio-27/
END:VEVENT
BEGIN:VEVENT
DTSTART;TZID=Europe/Rome:20250905T170000
DTEND;TZID=Europe/Rome:20250905T190000
DTSTAMP:20260421T201424
CREATED:20250904T124013Z
LAST-MODIFIED:20250904T124013Z
UID:35350-1757091600-1757098800@www.oaser.it
SUMMARY:CNOAS - Incontro Presidenti delle Commissioni Consultive per la Formazione Continua
DESCRIPTION:
URL:https://www.oaser.it/evento/cnoas-incontro-presidenti-delle-commissioni-consultive-per-la-formazione-continua/
END:VEVENT
BEGIN:VEVENT
DTSTART;VALUE=DATE:20250827
DTEND;VALUE=DATE:20250828
DTSTAMP:20260421T201424
CREATED:20250714T081601Z
LAST-MODIFIED:20250714T081601Z
UID:34773-1756252800-1756339199@www.oaser.it
SUMMARY:Comm.ne Formazione
DESCRIPTION:
URL:https://www.oaser.it/evento/comm-ne-formazione/
END:VEVENT
END:VCALENDAR