BEGIN:VCALENDAR
VERSION:2.0
PRODID:-//Ordine Assistenti Sociali - ECPv6.15.18//NONSGML v1.0//EN
CALSCALE:GREGORIAN
METHOD:PUBLISH
X-ORIGINAL-URL:https://www.oaser.it
X-WR-CALDESC:Eventi per Ordine Assistenti Sociali
REFRESH-INTERVAL;VALUE=DURATION:PT1H
X-Robots-Tag:noindex
X-PUBLISHED-TTL:PT1H
BEGIN:VTIMEZONE
TZID:Europe/Rome
BEGIN:DAYLIGHT
TZOFFSETFROM:+0100
TZOFFSETTO:+0200
TZNAME:CEST
DTSTART:20240331T010000
END:DAYLIGHT
BEGIN:STANDARD
TZOFFSETFROM:+0200
TZOFFSETTO:+0100
TZNAME:CET
DTSTART:20241027T010000
END:STANDARD
BEGIN:DAYLIGHT
TZOFFSETFROM:+0100
TZOFFSETTO:+0200
TZNAME:CEST
DTSTART:20250330T010000
END:DAYLIGHT
BEGIN:STANDARD
TZOFFSETFROM:+0200
TZOFFSETTO:+0100
TZNAME:CET
DTSTART:20251026T010000
END:STANDARD
BEGIN:DAYLIGHT
TZOFFSETFROM:+0100
TZOFFSETTO:+0200
TZNAME:CEST
DTSTART:20260329T010000
END:DAYLIGHT
BEGIN:STANDARD
TZOFFSETFROM:+0200
TZOFFSETTO:+0100
TZNAME:CET
DTSTART:20261025T010000
END:STANDARD
END:VTIMEZONE
BEGIN:VEVENT
DTSTART;VALUE=DATE:20250714
DTEND;VALUE=DATE:20250715
DTSTAMP:20260422T004825
CREATED:20250703T075706Z
LAST-MODIFIED:20250703T075706Z
UID:34598-1752451200-1752537599@www.oaser.it
SUMMARY:CNOAS - Tavolo nazionale Famiglie e Minori
DESCRIPTION:
URL:https://www.oaser.it/evento/cnoas-tavolo-nazionale-famiglie-e-minori/
END:VEVENT
BEGIN:VEVENT
DTSTART;VALUE=DATE:20250712
DTEND;VALUE=DATE:20250713
DTSTAMP:20260422T004825
CREATED:20250707T115924Z
LAST-MODIFIED:20250707T115924Z
UID:34647-1752278400-1752364799@www.oaser.it
SUMMARY:Il CNOAS incontra i Consiglieri dell'Ordine dell'Emilia Romagna
DESCRIPTION:
URL:https://www.oaser.it/evento/il-cnoas-incontra-i-consiglieri-dellordine-dellemilia-romagna/
END:VEVENT
BEGIN:VEVENT
DTSTART;TZID=Europe/Rome:20250707T173000
DTEND;TZID=Europe/Rome:20250707T193000
DTSTAMP:20260422T004825
CREATED:20250618T071230Z
LAST-MODIFIED:20250618T071230Z
UID:34478-1751909400-1751916600@www.oaser.it
SUMMARY:Commissione Formazione Continua
DESCRIPTION:
URL:https://www.oaser.it/evento/commissione-formazione-continua-4/
END:VEVENT
BEGIN:VEVENT
DTSTART;VALUE=DATE:20250704
DTEND;VALUE=DATE:20250705
DTSTAMP:20260422T004825
CREATED:20250703T075518Z
LAST-MODIFIED:20250703T075518Z
UID:34596-1751587200-1751673599@www.oaser.it
SUMMARY:CNOAS - Tavolo nazionale Disabilità
DESCRIPTION:
URL:https://www.oaser.it/evento/cnoas-tavolo-nazionale-disabilita/
END:VEVENT
BEGIN:VEVENT
DTSTART;TZID=Europe/Rome:20250625T150000
DTEND;TZID=Europe/Rome:20250625T170000
DTSTAMP:20260422T004825
CREATED:20250618T071101Z
LAST-MODIFIED:20250618T071145Z
UID:34475-1750863600-1750870800@www.oaser.it
SUMMARY:Commissione Albo ed Etica
DESCRIPTION:
URL:https://www.oaser.it/evento/comm-albo-ed-etica/
END:VEVENT
BEGIN:VEVENT
DTSTART;TZID=Europe/Rome:20250623T180000
DTEND;TZID=Europe/Rome:20250623T200000
DTSTAMP:20260422T004825
CREATED:20250611T065554Z
LAST-MODIFIED:20250611T065843Z
UID:34453-1750701600-1750708800@www.oaser.it
SUMMARY:Seduta di Consiglio
DESCRIPTION:
URL:https://www.oaser.it/evento/1800-consiglio/
END:VEVENT
BEGIN:VEVENT
DTSTART;TZID=Europe/Rome:20250616T173000
DTEND;TZID=Europe/Rome:20250616T193000
DTSTAMP:20260422T004825
CREATED:20250611T070007Z
LAST-MODIFIED:20250611T070007Z
UID:34456-1750095000-1750102200@www.oaser.it
SUMMARY:Commissione Formazione Continua
DESCRIPTION:
URL:https://www.oaser.it/evento/commissione-formazione-continua-3/
END:VEVENT
BEGIN:VEVENT
DTSTART;TZID=Europe/Rome:20250526T153000
DTEND;TZID=Europe/Rome:20250526T173000
DTSTAMP:20260422T004825
CREATED:20250506T223026Z
LAST-MODIFIED:20250506T223026Z
UID:34090-1748273400-1748280600@www.oaser.it
SUMMARY:SEDUTA DI INSEDIAMENTO NUOVA CONSILIATURA
DESCRIPTION:
URL:https://www.oaser.it/evento/seduta-di-insediamento-nuova-consiliatura/
END:VEVENT
BEGIN:VEVENT
DTSTART;TZID=Europe/Rome:20250521T153000
DTEND;TZID=Europe/Rome:20250521T173000
DTSTAMP:20260422T004825
CREATED:20250506T222943Z
LAST-MODIFIED:20250506T222943Z
UID:34088-1747841400-1747848600@www.oaser.it
SUMMARY:ULTIMA SEDUTA VECCHIA CONSILIATURA
DESCRIPTION:
URL:https://www.oaser.it/evento/ultima-seduta-vecchia-consiliatura/
END:VEVENT
BEGIN:VEVENT
DTSTART;TZID=Europe/Rome:20250515T153000
DTEND;TZID=Europe/Rome:20250515T173000
DTSTAMP:20260422T004825
CREATED:20250512T081206Z
LAST-MODIFIED:20250512T081206Z
UID:34146-1747323000-1747330200@www.oaser.it
SUMMARY:COMMISSIONE FORMAZIONE CONTINUA
DESCRIPTION:
URL:https://www.oaser.it/evento/commissione-formazione-continua-2/
END:VEVENT
BEGIN:VEVENT
DTSTART;TZID=Europe/Rome:20250428T203000
DTEND;TZID=Europe/Rome:20250428T223000
DTSTAMP:20260422T004825
CREATED:20250422T211232Z
LAST-MODIFIED:20250422T211232Z
UID:33888-1745872200-1745879400@www.oaser.it
SUMMARY:SEDUTA DI CONSIGLIO
DESCRIPTION:
URL:https://www.oaser.it/evento/seduta-di-consiglio-24/
END:VEVENT
BEGIN:VEVENT
DTSTART;TZID=Europe/Rome:20250423T153000
DTEND;TZID=Europe/Rome:20250423T173000
DTSTAMP:20260422T004825
CREATED:20250415T073927Z
LAST-MODIFIED:20250415T073927Z
UID:33749-1745422200-1745429400@www.oaser.it
SUMMARY:Commissione Formazione Continua
DESCRIPTION:
URL:https://www.oaser.it/evento/commissione-formazione-continua/
END:VEVENT
BEGIN:VEVENT
DTSTART;TZID=Europe/Rome:20250416T093000
DTEND;TZID=Europe/Rome:20250416T173000
DTSTAMP:20260422T004825
CREATED:20250422T211644Z
LAST-MODIFIED:20250422T211644Z
UID:33900-1744795800-1744824600@www.oaser.it
SUMMARY:ELEZIONI 2025
DESCRIPTION:
URL:https://www.oaser.it/evento/elezioni-2025-2/
END:VEVENT
BEGIN:VEVENT
DTSTART;TZID=Europe/Rome:20250416T080000
DTEND;TZID=Europe/Rome:20250416T173000
DTSTAMP:20260422T004825
CREATED:20250415T073749Z
LAST-MODIFIED:20250415T073749Z
UID:33745-1744790400-1744824600@www.oaser.it
SUMMARY:Elezioni Consiglio e Revisore dei Conti 2025/2029
DESCRIPTION:
URL:https://www.oaser.it/evento/elezioni-consiglio-e-revisore-dei-conti-2025-2029-2/
END:VEVENT
BEGIN:VEVENT
DTSTART;TZID=Europe/Rome:20250415T120000
DTEND;TZID=Europe/Rome:20250415T133000
DTSTAMP:20260422T004825
CREATED:20250422T211727Z
LAST-MODIFIED:20250422T211727Z
UID:33902-1744718400-1744723800@www.oaser.it
SUMMARY:INCONTRO ASSESSORA ELENA MAZZONI
DESCRIPTION:
URL:https://www.oaser.it/evento/incontro-assessora-elena-mazzoni/
END:VEVENT
BEGIN:VEVENT
DTSTART;TZID=Europe/Rome:20250415T093000
DTEND;TZID=Europe/Rome:20250415T173000
DTSTAMP:20260422T004825
CREATED:20250422T211617Z
LAST-MODIFIED:20250422T211617Z
UID:33898-1744709400-1744738200@www.oaser.it
SUMMARY:ELEZIONI 2025
DESCRIPTION:
URL:https://www.oaser.it/evento/elezioni-2025/
END:VEVENT
BEGIN:VEVENT
DTSTART;TZID=Europe/Rome:20250415T080000
DTEND;TZID=Europe/Rome:20250415T173000
DTSTAMP:20260422T004825
CREATED:20250415T073622Z
LAST-MODIFIED:20250415T073622Z
UID:33743-1744704000-1744738200@www.oaser.it
SUMMARY:Elezioni Consiglio e Revisore dei Conti 2025/2029
DESCRIPTION:
URL:https://www.oaser.it/evento/elezioni-consiglio-e-revisore-dei-conti-2025-2029/
END:VEVENT
BEGIN:VEVENT
DTSTART;TZID=Europe/Rome:20250408T170000
DTEND;TZID=Europe/Rome:20250408T190000
DTSTAMP:20260422T004825
CREATED:20250422T211158Z
LAST-MODIFIED:20250422T211158Z
UID:33886-1744131600-1744138800@www.oaser.it
SUMMARY:SEDUTA DI CONSIGLIO
DESCRIPTION:
URL:https://www.oaser.it/evento/seduta-di-consiglio-23/
END:VEVENT
BEGIN:VEVENT
DTSTART;TZID=Europe/Rome:20250407T180000
DTEND;TZID=Europe/Rome:20250407T193000
DTSTAMP:20260422T004825
CREATED:20250422T211537Z
LAST-MODIFIED:20250422T211537Z
UID:33896-1744048800-1744054200@www.oaser.it
SUMMARY:ASSEMBLEA CUP ER
DESCRIPTION:
URL:https://www.oaser.it/evento/assemblea-cup-er-3/
END:VEVENT
BEGIN:VEVENT
DTSTART;TZID=Europe/Rome:20250405T150000
DTEND;TZID=Europe/Rome:20250405T170000
DTSTAMP:20260422T004825
CREATED:20250422T211440Z
LAST-MODIFIED:20250422T211440Z
UID:33894-1743865200-1743872400@www.oaser.it
SUMMARY:GIUBILEO DEGLI AMMALATI
DESCRIPTION:
URL:https://www.oaser.it/evento/giubileo-degli-ammalati/
END:VEVENT
BEGIN:VEVENT
DTSTART;TZID=Europe/Rome:20250404T163000
DTEND;TZID=Europe/Rome:20250404T180000
DTSTAMP:20260422T004825
CREATED:20250422T211402Z
LAST-MODIFIED:20250422T211402Z
UID:33892-1743784200-1743789600@www.oaser.it
SUMMARY:GRUPPO AREA MINORI\, RIFORMA CARTABIA
DESCRIPTION:
URL:https://www.oaser.it/evento/gruppo-area-minori-riforma-cartabia/
END:VEVENT
BEGIN:VEVENT
DTSTART;TZID=Europe/Rome:20250331T153000
DTEND;TZID=Europe/Rome:20250331T180000
DTSTAMP:20260422T004825
CREATED:20250303T213619Z
LAST-MODIFIED:20250303T213619Z
UID:33272-1743435000-1743444000@www.oaser.it
SUMMARY:SEDUTA DI CONSIGLIO
DESCRIPTION:
URL:https://www.oaser.it/evento/seduta-di-consiglio-22/
END:VEVENT
BEGIN:VEVENT
DTSTART;TZID=Europe/Rome:20250331T153000
DTEND;TZID=Europe/Rome:20250331T173000
DTSTAMP:20260422T004825
CREATED:20250422T211318Z
LAST-MODIFIED:20250422T211318Z
UID:33890-1743435000-1743442200@www.oaser.it
SUMMARY:SEDUTA DI CONSIGLIO - INDIZIONE ELEZIONI
DESCRIPTION:
URL:https://www.oaser.it/evento/seduta-di-consiglio-indizione-elezioni/
END:VEVENT
BEGIN:VEVENT
DTSTART;TZID=Europe/Rome:20250320T090000
DTEND;TZID=Europe/Rome:20250322T140000
DTSTAMP:20260422T004825
CREATED:20250303T213946Z
LAST-MODIFIED:20250303T213946Z
UID:33282-1742461200-1742652000@www.oaser.it
SUMMARY:CONFERENZA DEI PRESIDENTI - AGRIGENTO
DESCRIPTION:
URL:https://www.oaser.it/evento/conferenza-dei-presidenti-agrigento/
END:VEVENT
BEGIN:VEVENT
DTSTART;TZID=Europe/Rome:20250318T093000
DTEND;TZID=Europe/Rome:20250318T123000
DTSTAMP:20260422T004825
CREATED:20250303T213852Z
LAST-MODIFIED:20250303T213852Z
UID:33280-1742290200-1742301000@www.oaser.it
SUMMARY:EVENTO FORMATIVO - GIORNATA MONDIALE DI SERVIZIO SOCIALE
DESCRIPTION:
URL:https://www.oaser.it/evento/evento-formativo-giornata-mondiale-di-servizio-sociale/
END:VEVENT
BEGIN:VEVENT
DTSTART;TZID=Europe/Rome:20250317T203000
DTEND;TZID=Europe/Rome:20250317T223000
DTSTAMP:20260422T004825
CREATED:20250303T213550Z
LAST-MODIFIED:20250303T213550Z
UID:33270-1742243400-1742250600@www.oaser.it
SUMMARY:SEDUTA DI CONSIGLIO
DESCRIPTION:
URL:https://www.oaser.it/evento/seduta-di-consiglio-21/
END:VEVENT
BEGIN:VEVENT
DTSTART;TZID=Europe/Rome:20250314T203000
DTEND;TZID=Europe/Rome:20250314T213000
DTSTAMP:20260422T004825
CREATED:20250303T213523Z
LAST-MODIFIED:20250303T213523Z
UID:33268-1741984200-1741987800@www.oaser.it
SUMMARY:SEDUTA DI CONSIGLIO
DESCRIPTION:
URL:https://www.oaser.it/evento/seduta-di-consiglio-20/
END:VEVENT
BEGIN:VEVENT
DTSTART;TZID=Europe/Rome:20250312T150000
DTEND;TZID=Europe/Rome:20250312T170000
DTSTAMP:20260422T004825
CREATED:20250302T133230Z
LAST-MODIFIED:20250302T133230Z
UID:33249-1741791600-1741798800@www.oaser.it
SUMMARY:Didattica Innovativa  e Servizio Sociale
DESCRIPTION:Nell’ambito dell’importante collaborazione con i Corsi di Laurea in Servizio sociale dell’Università di Bologna\, \npartecipiamo a \nPresentazione dei progetti realizzati da Student* dell’insegnamento di Comportamento Organizzativo nei Servizi \nore 15.00 -17.00 I AulaPoeti\nPalazzo Hercolani I Strada Maggiore\, 45 I Bologna \nL’incontro discute con l’Ordine Professionale Assistenti Sociali Regione Emilia-Romagna\nun’esperienza di apprendimento cooperativo\, che ha visto Student*\nrealizzare video per comunicare e diffondere i contenuti del corso di Comportamento\nOrganizzativo nei Servizi all’interno del progetto di didattica innovativa del Corso\ndi Laurea Magistrale in Sociologia e Servizio Sociale.\nAl dialogo tra Università e Ordine Professionale partecipano Maria Chiara Briani\, Presidente\ndell’Ordine Assistenti Sociali Regione Emilia Romagna\, Paola Parmiggiani\, Direttrice\ndel Dipartimento di Sociologia e Diritto dell’Economia\, Barbara Giullari\, Coordinatrice del\nCorso di Laurea Magistrale in Sociologia e Servizio Sociale\, Francesca Mantovani\, Coordinatrice\ndel Corso di Laurea in Servizio Sociale\, Maria Rita Tagliaventi\, docente dell’insegnamento\ndi Comportamento Organizzativo nei Servizi e Student* dei Corsi di Laurea.
URL:https://www.oaser.it/evento/didattica-innovativa-e-servizio-sociale/
END:VEVENT
BEGIN:VEVENT
DTSTART;TZID=Europe/Rome:20250310T153000
DTEND;TZID=Europe/Rome:20250310T180000
DTSTAMP:20260422T004825
CREATED:20250303T213815Z
LAST-MODIFIED:20250303T213815Z
UID:33278-1741620600-1741629600@www.oaser.it
SUMMARY:COMMISSIONE ACCREDITAMENTO
DESCRIPTION:
URL:https://www.oaser.it/evento/commissione-accreditamento/
END:VEVENT
BEGIN:VEVENT
DTSTART;TZID=Europe/Rome:20250310T153000
DTEND;TZID=Europe/Rome:20250310T173000
DTSTAMP:20260422T004825
CREATED:20250303T213725Z
LAST-MODIFIED:20250303T213725Z
UID:33276-1741620600-1741627800@www.oaser.it
SUMMARY:GRUPPO AREA MINORI
DESCRIPTION:
URL:https://www.oaser.it/evento/gruppo-area-minori/
END:VEVENT
END:VCALENDAR